BEGIN:VCALENDAR
VERSION:2.0
PRODID:-//Vivre à Vialas - ECPv6.11.2.1//NONSGML v1.0//EN
CALSCALE:GREGORIAN
METHOD:PUBLISH
X-ORIGINAL-URL:https://vivreavialas.fr
X-WR-CALDESC:Évènements pour Vivre à Vialas
REFRESH-INTERVAL;VALUE=DURATION:PT1H
X-Robots-Tag:noindex
X-PUBLISHED-TTL:PT1H
BEGIN:VTIMEZONE
TZID:UTC
BEGIN:STANDARD
TZOFFSETFROM:+0000
TZOFFSETTO:+0000
TZNAME:UTC
DTSTART:20240101T000000
END:STANDARD
END:VTIMEZONE
BEGIN:VEVENT
DTSTART;TZID=UTC:20240726T110000
DTEND;TZID=UTC:20240728T170000
DTSTAMP:20260421T204644
CREATED:20240302T202526Z
LAST-MODIFIED:20240725T091257Z
UID:1025-1721991600-1722186000@vivreavialas.fr
SUMMARY:Vialas à la page
DESCRIPTION:Vialas à la page\, le tome 4 est sorti !  \nRetrouvez votre festival de lectures à voix haute préféré\, du vendredi 26 au dimanche 28 juillet à Vialas. \nCette année\, le thème du festival est « Alors\, on va déguster ?!« \, nous vous laissons apprécier le double sens ! \nAu programme :  \n\nEntrée : Vendredi 26\n– 16h – Les Machines de Sophie – Atelier sur inscription \nMédiathèque de Vialas \nSpectacle participatif\, un atelier d’écriture insolite sur des machines à écrire trafiquées\, animé par 2 dactylo-clownes. Dès 10 ans. \n– 18h – “Tito and Co se révolte” – Tito and Co \nCour de la médiathèque \nIls sont cinq\, et ils ont prévu de vous délecter de textes de révolutions en tous genres. Avec notamment l’aide de Nelson Mandela\, Louise Michel\, Michel Fugain et même Keny Arkana. Ils ont dégusté\, nous dégustons\, et ils dégusteront ! Amateurs et amatrices de beauté et d’espoir\, haut les cœurs ! \n– 19h – Premier interlude : buvette et petite restauration Place de l’ancienne gendarmerie \n\n\nPlat : Samedi 27\n\n– 11h – “Le bon grain” – La bibliothèque bavarde \nMine du Bocard \nFarce contemporaine où l’on voit une reine préférant largement la culture du potager à la gestion des affaires du royaume. Mais quand le réchauffement climatique menace et que l’heure des choix a sonné\, sa majesté prend soudain des mesures écologiques radicales. Le peuple\, affamé\, se révolte ! \n– 12h30 – Interlude gustatif : Pique-nique partagé La plagette de la Planche Ramenez vos spécialités et partageons un pique-nique tous ensemble près de la rivière ! \n– 15h – “Contes à se rassasier” – Ode Ô contes\, tout âge \nLa plagette de la Planche \nDes histoires courtes pour rire\, sourire ou s’émouvoir : Pourquoi les fraises s’appellent “les baies d’amour”\, pourquoi “l’oignon fait pleurer” et quelques autres à déguster sans modération ! \n\n– 16h30 – Remise des prix du concours de nouvelles François Petit et lecture des nouvelles gagnantes \nCour de la médiathèque \n– 18h – “Va au vin” – L’Aparthéâtre \nCour des tricoteuses – 113 calade du Planet \n“Va au Vin” est un collage de textes gouleyants\, frais et charpentés. Des textes de Rabelais\, Baudelaire\, Colette\, Desproges\, Neruda\, Delteil\, Vian\, Brassens\, … On traverse la France entière\, avec humour et poésie. Un quizz sur le vin ponctue cette lecture vivifiante. \n– 19h30 – Interlude gustatif : buvette et repas complet (entrée + chili con carne ou chili sin carne + dessert) \nPlace de l’ancienne gendarmerie \n– 21h – Interlude musical : Les Trash Croutes enflamment la scène ! \nPréparez-vous à vous déhancher sur le dancefloor devant les Trashs Croutes\, des nymphes à paillettes toulousaines qui reprennent des tubes internationaux… mais dans la langue de Molière. \n\nDessert : Dimanche 28\n\n– 10h50 – “Livres à dévorer” – Atelier sur inscription\, animé par les Zakotés – 7 à 13 ans \nAncien office du tourisme – Rue haute \n– 11h – “Le sang des louves” – Sabine Jean \nJardin Arias – Schmitt \nQuand Leïla entame sa dernière année d’école primaire\, elle ne s’attend pas à de tels bouleversements… Son corps change ; elle devient “femme”. Elle ne se pose pas de questions\, mais le monde lui en pose. Comment désormais trouver sa place au sein de sa classe et à la maison ? Un texte tendre et drôle. de 10 à 104 ans… \n– 15h – “Livres à dévorer” – Atelier sur inscription\, animé par les Zakotés – 7 à 13 ans \nAncien office du tourisme – Rue haute \n\n\n– 15h – Les Machines de Sophie – Atelier sur inscription \nMédiathèque de Vialas \nSpectacle participatif\, un atelier d’écriture insolite sur des machines à écrire trafiquées\, animé par 2 dactylo-clownes. Dès 10 ans. \n– 18h – “Madame X\, Mister Body\, etc” – Et autres choses inutiles \nPlace de l’ancienne gendarmerie \nL’intime\, le jeu\, le politique : trois écritures ancrées dans une relation sensible aux réalités\, à la chair plus qu’à la fuite des jours\, et puisant\, chacune à leur manière\, dans des matières documentaires diverses. Trois corps\, trois voix\, pour une seule proposition\, incisive et drôle parfois. \n– 19h – Epilogue : Buvette et musique \nPlace de l’ancienne gendarmerie \n  \n\nEntremets \nBalade poétique : Une trentaine de poèmes thématiques sont affichés dans le village\, allez les découvrir ! \nBouquiniste : Retrouvez la sélection littéraire de “l’Ancre des mots”\, tout au long du weekend. \nConteuse ambulante : Au cours du weekend\, croisez Francine Moulin\, qui contera pour vous. \nLes Crieurs : Vous les aviez adoré\, ils reviennent ! \nRetrouvez tout au long du festival Gino et Gina\, qui crieront vos mots\, les horaires et bien d’autres choses ! \nExprimez-vous\, ouvrez votre cœur ! Une boite à mots sera à disposition dans le village pendant le weekend. \nInscriptions aux ateliers et réservations du repas : 07 64 24 18 59 – vivreavialas@gmail.com \n\n\n\n 
URL:https://vivreavialas.fr/event/evenement-2/
CATEGORIES:Agenda Vivre à Vialas
ATTACH;FMTTYPE=image/png:https://vivreavialas.fr/wp-content/uploads/2024/03/VALP_affiche_2024_1.png
END:VEVENT
BEGIN:VEVENT
DTSTART;TZID=UTC:20240622T180000
DTEND;TZID=UTC:20240623T020000
DTSTAMP:20260421T204644
CREATED:20240302T195424Z
LAST-MODIFIED:20240605T191645Z
UID:1008-1719079200-1719108000@vivreavialas.fr
SUMMARY:Vialas Sonore
DESCRIPTION:Evénement incontournable de Vivre à Vialas\, Vialas Sonore revient le 22 juin pour vous faire bouger ! \nAu programme :\nà 18h\, un époustouflant spectacle d’équilibrisme et percussions inédit\, pour vos yeux ébahis !\nIl sera ensuite temps de manger un délicieux repas en bonne compagnie\, menu en cours d’élaboration par nos cuisinier(e)s préféré(e)s ! \nEn première partie à 21h\, it’s cumbia time avec El Conjunto del Valletuerto\,\nEt pour continuer\, Sweet Gombo va enflammer le dancefloor à 23h avec ses sons d’inspiration afrobeat\, latin et afro-caribéenne ! \nPlus d’infos à venir ! \nPour mener à bien cet évènement\, nous recherchons des bénévoles ! Si vous souhaitez participer à l’aventure\, indiquez nous vos disponibilités par ici : https://lite.framacalc.org/vqdpfcip88-a7zw
URL:https://vivreavialas.fr/event/evenement-1/
LOCATION:Vialas\, Vialas\, 48220\, France
CATEGORIES:Agenda Vivre à Vialas
ATTACH;FMTTYPE=image/png:https://vivreavialas.fr/wp-content/uploads/2024/03/Affiche-VS-2024-6.png
END:VEVENT
BEGIN:VEVENT
DTSTART;TZID=UTC:20240504T140000
DTEND;TZID=UTC:20240504T180000
DTSTAMP:20260421T204644
CREATED:20240402T220619Z
LAST-MODIFIED:20240430T195526Z
UID:1149-1714831200-1714845600@vivreavialas.fr
SUMMARY:Touti Gratis
DESCRIPTION:Retrouvez-nous le 4 mai de 14 à 19h sur la place de l’ancienne gendarmerie pour une nouvelle fête de la gratuité.\nCette année\, Toutigratis prend de l’ampleur et célèbre le printemps. \nAu programme :\nBien sûr\, des vêtements\, livres\, jouets\, objets\, gratuits !\nLe pétassou revient avec sa pétamobile\, pour vous aider à réparer tous vos objets cassés !\nDans le cadre de l’ABC (Atlas de la Biodiversité Communale)\, Racines de Terriens vous propose une balade botanique à 14h\, suivie d’un atelier de reconnaissance de fleurs vers 15h.\nNous organisons notre premier tournoi d’échecs à 15 h (sur inscription auprès de Pierre\, au : 06 14 84 53 26).\nA 16h\, tout le monde se retrouve pour un gouter partagé\, amenez vos spécialités !\nEt enfin\, à 17h30\, les « Filles du Pont » vous proposent un concert de musique traditionnelle\, afin de finir l’après-midi en beauté !
URL:https://vivreavialas.fr/event/touti-gratis/
LOCATION:Vialas\, Vialas\, 48220\, France
ATTACH;FMTTYPE=image/jpeg:https://vivreavialas.fr/wp-content/uploads/2024/04/433970908_122116058624240302_5396094060795546023_n.jpg
END:VEVENT
END:VCALENDAR